BEGIN:VCALENDAR
VERSION:2.0
PRODID:-//West Athens Westmont Task Force - ECPv6.15.20//NONSGML v1.0//EN
CALSCALE:GREGORIAN
METHOD:PUBLISH
X-ORIGINAL-URL:https://wawtaskforce.org
X-WR-CALDESC:Events for West Athens Westmont Task Force
REFRESH-INTERVAL;VALUE=DURATION:PT1H
X-Robots-Tag:noindex
X-PUBLISHED-TTL:PT1H
BEGIN:VTIMEZONE
TZID:America/Los_Angeles
BEGIN:DAYLIGHT
TZOFFSETFROM:-0800
TZOFFSETTO:-0700
TZNAME:PDT
DTSTART:20240310T100000
END:DAYLIGHT
BEGIN:STANDARD
TZOFFSETFROM:-0700
TZOFFSETTO:-0800
TZNAME:PST
DTSTART:20241103T090000
END:STANDARD
BEGIN:DAYLIGHT
TZOFFSETFROM:-0800
TZOFFSETTO:-0700
TZNAME:PDT
DTSTART:20250309T100000
END:DAYLIGHT
BEGIN:STANDARD
TZOFFSETFROM:-0700
TZOFFSETTO:-0800
TZNAME:PST
DTSTART:20251102T090000
END:STANDARD
BEGIN:DAYLIGHT
TZOFFSETFROM:-0800
TZOFFSETTO:-0700
TZNAME:PDT
DTSTART:20260308T100000
END:DAYLIGHT
BEGIN:STANDARD
TZOFFSETFROM:-0700
TZOFFSETTO:-0800
TZNAME:PST
DTSTART:20261101T090000
END:STANDARD
END:VTIMEZONE
BEGIN:VTIMEZONE
TZID:UTC
BEGIN:STANDARD
TZOFFSETFROM:+0000
TZOFFSETTO:+0000
TZNAME:UTC
DTSTART:20240101T000000
END:STANDARD
END:VTIMEZONE
BEGIN:VEVENT
DTSTART;TZID=America/Los_Angeles:20250930T090000
DTEND;TZID=America/Los_Angeles:20250930T120000
DTSTAMP:20260424T185046
CREATED:20250922T223541Z
LAST-MODIFIED:20250922T232511Z
UID:3403-1759222800-1759233600@wawtaskforce.org
SUMMARY:Wkly Tuesday TF Meeting
DESCRIPTION:
URL:https://wawtaskforce.org/event/wkly-tuesday-tf-meeting-2/
CATEGORIES:Community Calendar
END:VEVENT
BEGIN:VEVENT
DTSTART;TZID=UTC:20250923T090000
DTEND;TZID=UTC:20250923T120000
DTSTAMP:20260424T185046
CREATED:20250922T223324Z
LAST-MODIFIED:20250922T223331Z
UID:3401-1758618000-1758628800@wawtaskforce.org
SUMMARY:Wkly Tuesday TF Meeting
DESCRIPTION:
URL:https://wawtaskforce.org/event/wkly-tuesday-tf-meeting/
CATEGORIES:Community Calendar
END:VEVENT
BEGIN:VEVENT
DTSTART;TZID=UTC:20250904T180000
DTEND;TZID=UTC:20250904T200000
DTSTAMP:20260424T185046
CREATED:20250923T000153Z
LAST-MODIFIED:20250923T000800Z
UID:3437-1757008800-1757016000@wawtaskforce.org
SUMMARY:Monthly CAP Mtg
DESCRIPTION:
URL:https://wawtaskforce.org/event/monthly-cap-mtg/
CATEGORIES:CAP Mtg,Community Calendar
END:VEVENT
END:VCALENDAR